BEGIN:VCALENDAR
VERSION:2.0
PRODID:-//3nity.com//3nity CMS//EN
BEGIN:VEVENT
SUMMARY:VIRTUAL PRAYER NIGHT
UID:2024-07-16-964912@www.apostolictopny.org
SEQUENCE:0
STATUS:CONFIRMED
DTSTART:20240322T000000
DTEND:20240322T010000
DTSTAMP:20161222T120000
DESCRIPTION:Join us for a time of prayer and intercession virtually on Zoom EVERY Friday night at 8pm EST. Please email us at info@apostolictopny.org if you would like to attend a prayer session or submit a private prayer request.
URL:http://www.apostolictopny.org
END:VEVENT
END:VCALENDAR
